BEGIN:VCALENDAR
VERSION:2.0
PRODID:-//Grand River Chorus - ECPv6.15.20//NONSGML v1.0//EN
CALSCALE:GREGORIAN
METHOD:PUBLISH
X-WR-CALNAME:Grand River Chorus
X-ORIGINAL-URL:https://grandriverchorus.com
X-WR-CALDESC:Events for Grand River Chorus
REFRESH-INTERVAL;VALUE=DURATION:PT1H
X-Robots-Tag:noindex
X-PUBLISHED-TTL:PT1H
BEGIN:VTIMEZONE
TZID:UTC
BEGIN:STANDARD
TZOFFSETFROM:+0000
TZOFFSETTO:+0000
TZNAME:UTC
DTSTART:20230101T000000
END:STANDARD
END:VTIMEZONE
BEGIN:VEVENT
DTSTART;TZID=UTC:20240828T000000
DTEND;TZID=UTC:20241103T150000
DTSTAMP:20260421T012225
CREATED:20240828T072619Z
LAST-MODIFIED:20241024T113234Z
UID:10000006-1724803200-1730646000@grandriverchorus.com
SUMMARY:2024-2025 Season Concert Pass
DESCRIPTION:To close out the season\, the GRC with our special guest: Dundas Valley Orchestra will presents an afternoon of toes tapping fun\, featuring John Rutter’s Feel the Spirit: A Cycle of Spirituals\, and other music by William Dawson\, Nathaniel Dett and more\, This is a concert will surely lift your spirits. 								\n				\n					\n		\n					\n		\n				\n						\n					\n			\n						\n				\n					\n	« All Events\n 				\n				\n				\n				\n					\n	Feel the Spirit				\n				\n				\n				\n					\n		\n			May 2\n\n	\n\n	  @  \n\n\n3:00 pm\n\n		\n\n\n\n	\n	  -  \n\n5:00 pm\n\n\n\n	\n				\n				\n				\n				\n					\n$20.00 – $30.00 				\n				\n				\n				\n					\n	\n				\n				\n				\n				\n					\n	\n\n		\n		\n		\n\n		\n\n\n		\n\n\n\n	Tickets\n\n		\n	\n	\n		The numbers below include tickets for this event already in your cart. Clicking "Get Tickets" will allow you to edit any existing attendee information as well as change ticket quantities.	\n\n\n		\n\n	\n		\n				Feel the Spirit: Adult	\n\n\n\n\n	$30 Adult Feel the Spirit Ticket. Presented by Grand River Chorus.\n\n\n	\n		\n		\n				\n					$\n					30.00\n				\n						\n\n\n	\n\n\n	Unlimited\n	\n\n\n	\n\n\n	\n						\n	Decrease ticket quantity for Feel the Spirit: Adult\n	-\n				\n\n	\n		Quantity	\n	\n\n					\n	Increase ticket quantity for Feel the Spirit: Adult\n	+\n			\n\n	\n		\n	\n\n\n\n	\n		\n				Feel the Spirit: Youth (13-25)	\n\n\n\n\n	$20 Youth (13-25) Feel the Spirit Ticket. Presented by Grand River Chorus.\n\n\n	\n		\n		\n				\n					$\n					20.00\n				\n						\n\n\n	\n\n\n	Unlimited\n	\n\n\n	\n\n\n	\n						\n	Decrease ticket quantity for Feel the Spirit: Youth (13-25)\n	-\n				\n\n	\n		Quantity	\n	\n\n					\n	Increase ticket quantity for Feel the Spirit: Youth (13-25)\n	+\n			\n\n	\n		\n	\n\n\n		\n\n	\n	\n	\n		Quantity:	\n	0\n\n\n	\n	\n		Total:	\n	\n		\n				\n					$\n					0.00\n				\n				\n\n\n	Get Tickets\n\n		\n				\n\n\n		\n		\n	\n	\n\n	\n	\n\n	\n	\n\n\n\n			\n\n	\n\n\n				\n				\n				\n						\n					\n			\n						\n				\n					\n	\n\n	Categories:	\n		Concert	\n\n				\n				\n					\n		\n				\n			\n							\n		\n					\n		\n				\n						\n					\n			\n						\n				\n					\n				\n				\n	\n			\n		New Life Pentecostal Church			\n	\n	\n	\n\n85 Clench Ave.\n	\n		\n		Brantford\,\n\n	Ontario\n\n	N3T 1C1\n\n	Canada\n\n\n\n\n	+ Google Map \n\n\n	\n					\n			(519) 752-7158			\n	 \n\n\n	\n	View Venue Website \n\n\n\n	\n\n\n\n		\n	\n				\n				\n					\n		\n					\n		\n				\n						\n					\n			\n						\n				\n					\n	\n		\n\n	\n	Add to calendar	\n		\n	\n\n		\n			\n									\n	Google Calendar\n\n									\n	iCalendar\n\n									\n	Outlook 365\n\n									\n	Outlook Live\n\n							\n		\n\n		\n	\n\n				\n				\n					\n		\n					\n		\n				\n						\n					\n			\n						\n				\n					\n	\n		\n\n				Messiah
URL:https://grandriverchorus.com/event/2024-2025-season-concert-pass/
LOCATION:St. Andrew’s United Church\, 95 Darling Street\, Brantford\, Ontario\, N3T 2K7\, Canada
CATEGORIES:Season pass
ATTACH;FMTTYPE=image/png:https://grandriverchorus.com/wp-content/uploads/2024/08/Seasonposter-1.png
END:VEVENT
BEGIN:VEVENT
DTSTART;TZID=UTC:20241103T150000
DTEND;TZID=UTC:20241103T170000
DTSTAMP:20260421T012226
CREATED:20240828T230450Z
LAST-MODIFIED:20241024T112419Z
UID:10000012-1730646000-1730653200@grandriverchorus.com
SUMMARY:Mystical and Majestic
DESCRIPTION:To close out the season\, the GRC with our special guest: Dundas Valley Orchestra will presents an afternoon of toes tapping fun\, featuring John Rutter’s Feel the Spirit: A Cycle of Spirituals\, and other music by William Dawson\, Nathaniel Dett and more\, This is a concert will surely lift your spirits. 								\n				\n					\n		\n					\n		\n				\n						\n					\n			\n						\n				\n					\n	« All Events\n 				\n				\n				\n				\n					\n	Feel the Spirit				\n				\n				\n				\n					\n		\n			May 2\n\n	\n\n	  @  \n\n\n3:00 pm\n\n		\n\n\n\n	\n	  -  \n\n5:00 pm\n\n\n\n	\n				\n				\n				\n				\n					\n$20.00 – $30.00 				\n				\n				\n				\n					\n	\n				\n				\n				\n				\n					\n	\n\n		\n		\n		\n\n		\n\n\n		\n\n\n\n	Tickets\n\n		\n	\n	\n		The numbers below include tickets for this event already in your cart. Clicking "Get Tickets" will allow you to edit any existing attendee information as well as change ticket quantities.	\n\n\n		\n\n	\n		\n				Feel the Spirit: Adult	\n\n\n\n\n	$30 Adult Feel the Spirit Ticket. Presented by Grand River Chorus.\n\n\n	\n		\n		\n				\n					$\n					30.00\n				\n						\n\n\n	\n\n\n	Unlimited\n	\n\n\n	\n\n\n	\n					\n\n	\n		Quantity	\n	\n\n			\n\n	\n		\n	\n\n\n\n	\n		\n				Feel the Spirit: Youth (13-25)	\n\n\n\n\n	$20 Youth (13-25) Feel the Spirit Ticket. Presented by Grand River Chorus.\n\n\n	\n		\n		\n				\n					$\n					20.00\n				\n						\n\n\n	\n\n\n	Unlimited\n	\n\n\n	\n\n\n	\n					\n\n	\n		Quantity	\n	\n\n			\n\n	\n		\n	\n\n\n		\n\n	\n	\n	\n		Quantity:	\n	0\n\n\n	\n	\n		Total:	\n	\n		\n				\n					$\n					0.00\n				\n				\n\n\n	Get Tickets\n\n		\n				\n\n\n		\n		\n	\n	\n\n	\n	\n\n	\n	\n\n\n\n			\n\n	\n\n\n				\n				\n				\n						\n					\n			\n						\n				\n					\n	\n\n	Categories:	\n		Concert	\n\n				\n				\n					\n		\n				\n			\n							\n		\n					\n		\n				\n						\n					\n			\n						\n				\n					\n				\n				\n	\n			\n		New Life Pentecostal Church			\n	\n	\n	\n\n85 Clench Ave.\n	\n		\n		Brantford\,\n\n	Ontario\n\n	N3T 1C1\n\n	Canada\n\n\n\n\n	+ Google Map \n\n\n	\n					\n			(519) 752-7158			\n	 \n\n\n	\n	View Venue Website \n\n\n\n	\n\n\n\n		\n	\n				\n				\n					\n		\n					\n		\n				\n						\n					\n			\n						\n				\n					\n	\n		\n\n	\n	Add to calendar	\n		\n	\n\n		\n			\n									\n	Google Calendar\n\n									\n	iCalendar\n\n									\n	Outlook 365\n\n									\n	Outlook Live\n\n							\n		\n\n		\n	\n\n				\n				\n					\n		\n					\n		\n				\n						\n					\n			\n						\n				\n					\n	\n		\n\n				Messiah
URL:https://grandriverchorus.com/event/mystical-and-majestic/
LOCATION:St. Andrew’s United Church\, 95 Darling Street\, Brantford\, Ontario\, N3T 2K7\, Canada
CATEGORIES:Concert
ATTACH;FMTTYPE=image/png:https://grandriverchorus.com/wp-content/uploads/2024/08/Mystical-poster.png
END:VEVENT
END:VCALENDAR