BEGIN:VCALENDAR
VERSION:2.0
PRODID:-//Grand River Chorus - ECPv6.15.20//NONSGML v1.0//EN
CALSCALE:GREGORIAN
METHOD:PUBLISH
X-ORIGINAL-URL:https://grandriverchorus.com
X-WR-CALDESC:Events for Grand River Chorus
REFRESH-INTERVAL;VALUE=DURATION:PT1H
X-Robots-Tag:noindex
X-PUBLISHED-TTL:PT1H
BEGIN:VTIMEZONE
TZID:America/Toronto
BEGIN:DAYLIGHT
TZOFFSETFROM:-0500
TZOFFSETTO:-0400
TZNAME:EDT
DTSTART:20250309T070000
END:DAYLIGHT
BEGIN:STANDARD
TZOFFSETFROM:-0400
TZOFFSETTO:-0500
TZNAME:EST
DTSTART:20251102T060000
END:STANDARD
BEGIN:DAYLIGHT
TZOFFSETFROM:-0500
TZOFFSETTO:-0400
TZNAME:EDT
DTSTART:20260308T070000
END:DAYLIGHT
BEGIN:STANDARD
TZOFFSETFROM:-0400
TZOFFSETTO:-0500
TZNAME:EST
DTSTART:20261101T060000
END:STANDARD
BEGIN:DAYLIGHT
TZOFFSETFROM:-0500
TZOFFSETTO:-0400
TZNAME:EDT
DTSTART:20270314T070000
END:DAYLIGHT
BEGIN:STANDARD
TZOFFSETFROM:-0400
TZOFFSETTO:-0500
TZNAME:EST
DTSTART:20271107T060000
END:STANDARD
BEGIN:DAYLIGHT
TZOFFSETFROM:-0500
TZOFFSETTO:-0400
TZNAME:EDT
DTSTART:20280312T070000
END:DAYLIGHT
BEGIN:STANDARD
TZOFFSETFROM:-0400
TZOFFSETTO:-0500
TZNAME:EST
DTSTART:20281105T060000
END:STANDARD
END:VTIMEZONE
BEGIN:VEVENT
DTSTART;TZID=America/Toronto:20261108T130000
DTEND;TZID=America/Toronto:20270502T130000
DTSTAMP:20260421T120904
CREATED:20260421T035507Z
LAST-MODIFIED:20260421T042048Z
UID:10000025-1794142800-1809262800@grandriverchorus.com
SUMMARY:2026-2027 Season Concert Pass
DESCRIPTION:The 2026-2027 Grand River Chorus’ Seasons Concert Pass is the best way to experience the entire season. Three concerts for $80 (Adults) or $50 (Youth 13-25). Join us for Canadian Remembrance (Nov. 8\, 2026)\, Messiah (Dec. 6\, 2026) and Feel the Spirit (May 7\, 2027). 								\n				\n					\n		\n					\n		\n				\n						\n					\n			\n						\n				\n					\n	« All Events\n 				\n				\n				\n				\n					\n	2026-2027 Season Concert Pass				\n				\n				\n				\n					\n		\n			November 8\n\n	\n\n	  @  \n\n\n1:00 pm\n\n	\n\n		\n	\n	  -  \n\n	May 2\n\n	\n\n	  @  \n\n\n1:00 pm\n\n\n\n	\n				\n				\n				\n				\n					\n$50.00 – $80.00 				\n				\n				\n				\n					\n	\n				\n				\n				\n				\n					\n	\n\n		\n		\n		\n\n		\n\n\n		\n\n\n\n	Tickets\n\n		\n	\n	\n		The numbers below include tickets for this event already in your cart. Clicking "Get Tickets" will allow you to edit any existing attendee information as well as change ticket quantities.	\n\n\n		\n\n	\n		\n				2026-2027 Season Concert Pass: Adult	\n\n\n\n\n	$80 Adult Season Concert Pass. Presented by Grand River Chorus.\n\n\n	\n		\n		\n				\n					$\n					80.00\n				\n						\n\n\n	\n\n\n	Unlimited\n	\n\n\n	\n\n\n	\n						\n	Decrease ticket quantity for 2026-2027 Season Concert Pass: Adult\n	-\n				\n\n	\n		Quantity	\n	\n\n					\n	Increase ticket quantity for 2026-2027 Season Concert Pass: Adult\n	+\n			\n\n	\n		\n	\n\n\n\n	\n		\n				2025-2026 Season Concert Pass: Youth (13-25)	\n\n\n\n\n	$50 Youth Season Concert Pass. Presented by Grand River Chorus.\n\n\n	\n		\n		\n				\n					$\n					50.00\n				\n						\n\n\n	\n\n\n	Unlimited\n	\n\n\n	\n\n\n	\n						\n	Decrease ticket quantity for 2025-2026 Season Concert Pass: Youth (13-25)\n	-\n				\n\n	\n		Quantity	\n	\n\n					\n	Increase ticket quantity for 2025-2026 Season Concert Pass: Youth (13-25)\n	+\n			\n\n	\n		\n	\n\n\n		\n\n	\n	\n	\n		Quantity:	\n	0\n\n\n	\n	\n		Total:	\n	\n		\n				\n					$\n					0.00\n				\n				\n\n\n	Get Tickets\n\n		\n				\n\n\n		\n		\n	\n	\n\n	\n	\n\n	\n	\n\n\n\n			\n\n	\n\n\n				\n				\n				\n						\n					\n			\n						\n				\n					\n	\n\n	Categories:	\n		Season pass	\n\n				\n				\n					\n		\n				\n			\n							\n		\n					\n		\n				\n						\n					\n			\n							\n		\n					\n		\n				\n						\n					\n			\n						\n				\n					\n	\n		\n\n	\n	Add to calendar	\n		\n	\n\n		\n			\n									\n	Google Calendar\n\n									\n	iCalendar\n\n									\n	Outlook 365\n\n									\n	Outlook Live\n\n							\n		\n\n		\n	\n\n				\n				\n					\n		\n					\n		\n				\n						\n					\n			\n						\n				\n					\n	\n		\n\n				Penzance in Concert	\n\n\n		\n	\n		Canadian Remembrance
URL:https://grandriverchorus.com/event/2026-2027-season-concert-pass/
CATEGORIES:Season pass
ATTACH;FMTTYPE=image/png:https://grandriverchorus.com/wp-content/uploads/2026/03/1000009308.png
END:VEVENT
END:VCALENDAR