BEGIN:VCALENDAR
VERSION:2.0
PRODID:-//Grand River Chorus - ECPv6.15.20//NONSGML v1.0//EN
CALSCALE:GREGORIAN
METHOD:PUBLISH
X-WR-CALNAME:Grand River Chorus
X-ORIGINAL-URL:https://grandriverchorus.com
X-WR-CALDESC:Events for Grand River Chorus
REFRESH-INTERVAL;VALUE=DURATION:PT1H
X-Robots-Tag:noindex
X-PUBLISHED-TTL:PT1H
BEGIN:VTIMEZONE
TZID:UTC
BEGIN:STANDARD
TZOFFSETFROM:+0000
TZOFFSETTO:+0000
TZNAME:UTC
DTSTART:20240101T000000
END:STANDARD
END:VTIMEZONE
BEGIN:VEVENT
DTSTART;TZID=UTC:20250504T150000
DTEND;TZID=UTC:20250504T170000
DTSTAMP:20260420T170825
CREATED:20240828T234855Z
LAST-MODIFIED:20241209T192257Z
UID:10000015-1746370800-1746378000@grandriverchorus.com
SUMMARY:May the Fourth Be With You
DESCRIPTION:Fête du vin\, Saturday\, February 21\, 2026\, is Grand River Chorus’ major fundraiser\, held at the Best Western Brantford Hotel\, 19 Holiday Drive. \nThis year’s theme is Mad Hatter’s Tea Party\, (but with wine!) Use your imagination and dress in something whimsical and fantastical. You will enjoy wines from Chateau Des Charmes Winery\, a silent and live auction\, a delicious plated dinner\, and live music by Solosax. Tickets are $90 per person. Click Get Tickets below to buy yours online.   								\n				\n				\n				\n					\n	\n\n		\n		\n		\n\n		\n\n\n		\n\n\n\n	Tickets\n\n		\n	\n	\n		The numbers below include tickets for this event already in your cart. Clicking "Get Tickets" will allow you to edit any existing attendee information as well as change ticket quantities.	\n\n\n		\n		\n		\n	\n		Tickets are no longer available
URL:https://grandriverchorus.com/event/may-the-fourth-be-with-you/
LOCATION:St Andrew’s United Church\, 95 Darling Street\, Brantford\, On\, N3T 2K7\, Canada
CATEGORIES:Concert
ATTACH;FMTTYPE=image/png:https://grandriverchorus.com/wp-content/uploads/2024/12/May-the-Fourth-Be-With-You-8.5-x-11-in-2.png
END:VEVENT
END:VCALENDAR