BEGIN:VCALENDAR
VERSION:2.0
PRODID:-//Grand River Chorus - ECPv6.15.20//NONSGML v1.0//EN
CALSCALE:GREGORIAN
METHOD:PUBLISH
X-WR-CALNAME:Grand River Chorus
X-ORIGINAL-URL:https://grandriverchorus.com
X-WR-CALDESC:Events for Grand River Chorus
REFRESH-INTERVAL;VALUE=DURATION:PT1H
X-Robots-Tag:noindex
X-PUBLISHED-TTL:PT1H
BEGIN:VTIMEZONE
TZID:America/Toronto
BEGIN:DAYLIGHT
TZOFFSETFROM:-0500
TZOFFSETTO:-0400
TZNAME:EDT
DTSTART:20250309T070000
END:DAYLIGHT
BEGIN:STANDARD
TZOFFSETFROM:-0400
TZOFFSETTO:-0500
TZNAME:EST
DTSTART:20251102T060000
END:STANDARD
BEGIN:DAYLIGHT
TZOFFSETFROM:-0500
TZOFFSETTO:-0400
TZNAME:EDT
DTSTART:20260308T070000
END:DAYLIGHT
BEGIN:STANDARD
TZOFFSETFROM:-0400
TZOFFSETTO:-0500
TZNAME:EST
DTSTART:20261101T060000
END:STANDARD
BEGIN:DAYLIGHT
TZOFFSETFROM:-0500
TZOFFSETTO:-0400
TZNAME:EDT
DTSTART:20270314T070000
END:DAYLIGHT
BEGIN:STANDARD
TZOFFSETFROM:-0400
TZOFFSETTO:-0500
TZNAME:EST
DTSTART:20271107T060000
END:STANDARD
END:VTIMEZONE
BEGIN:VEVENT
DTSTART;TZID=America/Toronto:20261206T150000
DTEND;TZID=America/Toronto:20261206T170000
DTSTAMP:20260421T034722
CREATED:20260421T035552Z
LAST-MODIFIED:20260421T041454Z
UID:3139-1796569200-1796576400@grandriverchorus.com
SUMMARY:Messiah
DESCRIPTION:Our biennial presentation of a perennial favourite in the world of classical music for the Christmas season. We had a sell out house two years ago\, so get your ticket(s) early. Be a season subscriber and you can beat the line up at the door. 								\n				\n					\n		\n					\n		\n				\n						\n					\n			\n						\n				\n					\n	« All Events\n 				\n				\n				\n				\n					\n	Messiah				\n				\n				\n				\n					\n		\n			December 6\n\n	\n\n	  @  \n\n\n3:00 pm\n\n		\n\n\n\n	\n	  -  \n\n5:00 pm\n\n\n\n	\n				\n				\n				\n				\n					\n$20.00 – $30.00 				\n				\n				\n				\n					\n	\n				\n				\n				\n				\n					\n	\n\n		\n		\n		\n\n		\n\n\n		\n\n\n\n	Tickets\n\n		\n	\n	\n		The numbers below include tickets for this event already in your cart. Clicking "Get Tickets" will allow you to edit any existing attendee information as well as change ticket quantities.	\n\n\n		\n\n	\n		\n				Messiah: Adult	\n\n\n\n\n	$30 Adult Messiah Ticket. Presented by Grand River Chorus.\n\n\n	\n		\n		\n				\n					$\n					30.00\n				\n						\n\n\n	\n\n\n	Unlimited\n	\n\n\n	\n\n\n	\n						\n	Decrease ticket quantity for Messiah: Adult\n	-\n				\n\n	\n		Quantity	\n	\n\n					\n	Increase ticket quantity for Messiah: Adult\n	+\n			\n\n	\n		\n	\n\n\n\n	\n		\n				Messiah: Youth (13-25)	\n\n\n\n\n	$20 Youth (13-25) Messiah Ticket. Presented by Grand River Chorus.\n\n\n	\n		\n		\n				\n					$\n					20.00\n				\n						\n\n\n	\n\n\n	Unlimited\n	\n\n\n	\n\n\n	\n						\n	Decrease ticket quantity for Messiah: Youth (13-25)\n	-\n				\n\n	\n		Quantity	\n	\n\n					\n	Increase ticket quantity for Messiah: Youth (13-25)\n	+\n			\n\n	\n		\n	\n\n\n		\n\n	\n	\n	\n		Quantity:	\n	0\n\n\n	\n	\n		Total:	\n	\n		\n				\n					$\n					0.00\n				\n				\n\n\n	Get Tickets\n\n		\n				\n\n\n		\n		\n	\n	\n\n	\n	\n\n	\n	\n\n\n\n			\n\n	\n\n\n				\n				\n				\n						\n					\n			\n						\n				\n					\n	\n\n	Categories:	\n		Concert	\n\n				\n				\n					\n		\n				\n			\n							\n		\n					\n		\n				\n						\n					\n			\n						\n				\n					\n				\n				\n	\n			\n		St Andrew’s United Church			\n	\n	\n	\n\n95 Darling Street\n	\n		\n		Brantford\,\n\n	On\n\n	N3T 2K7\n\n	Canada\n\n\n\n\n	+ Google Map \n\n\n	\n					\n						\n	 \n\n\n	\n	View Venue Website \n\n\n\n	\n\n\n\n		\n	\n				\n				\n					\n		\n					\n		\n				\n						\n					\n			\n						\n				\n					\n	\n		\n\n	\n	Add to calendar	\n		\n	\n\n		\n			\n									\n	Google Calendar\n\n									\n	iCalendar\n\n									\n	Outlook 365\n\n									\n	Outlook Live\n\n							\n		\n\n		\n	\n\n				\n				\n					\n		\n					\n		\n				\n						\n					\n			\n						\n				\n					\n	\n		\n\n				Canadian Remembrance	\n\n\n		\n	\n		Feel the Spirit
URL:https://grandriverchorus.com/event/messiah/
LOCATION:St Andrew’s United Church\, 95 Darling Street\, Brantford\, On\, N3T 2K7\, Canada
CATEGORIES:Concert
ATTACH;FMTTYPE=image/png:https://grandriverchorus.com/wp-content/uploads/2026/03/1000009332.png
END:VEVENT
END:VCALENDAR