BEGIN:VCALENDAR
VERSION:2.0
PRODID:-//Grand River Chorus - ECPv6.15.20//NONSGML v1.0//EN
CALSCALE:GREGORIAN
METHOD:PUBLISH
X-WR-CALNAME:Grand River Chorus
X-ORIGINAL-URL:https://grandriverchorus.com
X-WR-CALDESC:Events for Grand River Chorus
REFRESH-INTERVAL;VALUE=DURATION:PT1H
X-Robots-Tag:noindex
X-PUBLISHED-TTL:PT1H
BEGIN:VTIMEZONE
TZID:America/Toronto
BEGIN:DAYLIGHT
TZOFFSETFROM:-0500
TZOFFSETTO:-0400
TZNAME:EDT
DTSTART:20260308T070000
END:DAYLIGHT
BEGIN:STANDARD
TZOFFSETFROM:-0400
TZOFFSETTO:-0500
TZNAME:EST
DTSTART:20261101T060000
END:STANDARD
BEGIN:DAYLIGHT
TZOFFSETFROM:-0500
TZOFFSETTO:-0400
TZNAME:EDT
DTSTART:20270314T070000
END:DAYLIGHT
BEGIN:STANDARD
TZOFFSETFROM:-0400
TZOFFSETTO:-0500
TZNAME:EST
DTSTART:20271107T060000
END:STANDARD
BEGIN:DAYLIGHT
TZOFFSETFROM:-0500
TZOFFSETTO:-0400
TZNAME:EDT
DTSTART:20280312T070000
END:DAYLIGHT
BEGIN:STANDARD
TZOFFSETFROM:-0400
TZOFFSETTO:-0500
TZNAME:EST
DTSTART:20281105T060000
END:STANDARD
END:VTIMEZONE
BEGIN:VEVENT
DTSTART;TZID=America/Toronto:20270502T150000
DTEND;TZID=America/Toronto:20270502T170000
DTSTAMP:20260421T032827
CREATED:20260421T035552Z
LAST-MODIFIED:20260421T042435Z
UID:3146-1809270000-1809277200@grandriverchorus.com
SUMMARY:Feel the Spirit
DESCRIPTION:To close out the season\, the GRC with our special guest: Dundas Valley Orchestra will presents an afternoon of toes tapping fun\, featuring John Rutter’s Feel the Spirit: A Cycle of Spirituals\, and other music by William Dawson\, Nathaniel Dett and more\, This is a concert will surely lift your spirits. 								\n				\n					\n		\n					\n		\n				\n						\n					\n			\n						\n				\n					\n	« All Events\n 				\n				\n				\n				\n					\n	Feel the Spirit				\n				\n				\n				\n					\n		\n			May 2\n\n	\n\n	  @  \n\n\n3:00 pm\n\n		\n\n\n\n	\n	  -  \n\n5:00 pm\n\n\n\n	\n				\n				\n				\n				\n					\n$20.00 – $30.00 				\n				\n				\n				\n					\n	\n				\n				\n				\n				\n					\n	\n\n		\n		\n		\n\n		\n\n\n		\n\n\n\n	Tickets\n\n		\n	\n	\n		The numbers below include tickets for this event already in your cart. Clicking "Get Tickets" will allow you to edit any existing attendee information as well as change ticket quantities.	\n\n\n		\n\n	\n		\n				Feel the Spirit: Adult	\n\n\n\n\n	$30 Adult Feel the Spirit Ticket. Presented by Grand River Chorus.\n\n\n	\n		\n		\n				\n					$\n					30.00\n				\n						\n\n\n	\n\n\n	Unlimited\n	\n\n\n	\n\n\n	\n						\n	Decrease ticket quantity for Feel the Spirit: Adult\n	-\n				\n\n	\n		Quantity	\n	\n\n					\n	Increase ticket quantity for Feel the Spirit: Adult\n	+\n			\n\n	\n		\n	\n\n\n\n	\n		\n				Feel the Spirit: Youth (13-25)	\n\n\n\n\n	$20 Youth (13-25) Feel the Spirit Ticket. Presented by Grand River Chorus.\n\n\n	\n		\n		\n				\n					$\n					20.00\n				\n						\n\n\n	\n\n\n	Unlimited\n	\n\n\n	\n\n\n	\n						\n	Decrease ticket quantity for Feel the Spirit: Youth (13-25)\n	-\n				\n\n	\n		Quantity	\n	\n\n					\n	Increase ticket quantity for Feel the Spirit: Youth (13-25)\n	+\n			\n\n	\n		\n	\n\n\n		\n\n	\n	\n	\n		Quantity:	\n	0\n\n\n	\n	\n		Total:	\n	\n		\n				\n					$\n					0.00\n				\n				\n\n\n	Get Tickets\n\n		\n				\n\n\n		\n		\n	\n	\n\n	\n	\n\n	\n	\n\n\n\n			\n\n	\n\n\n				\n				\n				\n						\n					\n			\n						\n				\n					\n	\n\n	Categories:	\n		Concert	\n\n				\n				\n					\n		\n				\n			\n							\n		\n					\n		\n				\n						\n					\n			\n						\n				\n					\n				\n				\n	\n			\n		New Life Pentecostal Church			\n	\n	\n	\n\n85 Clench Ave.\n	\n		\n		Brantford\,\n\n	Ontario\n\n	N3T 1C1\n\n	Canada\n\n\n\n\n	+ Google Map \n\n\n	\n					\n			(519) 752-7158			\n	 \n\n\n	\n	View Venue Website \n\n\n\n	\n\n\n\n		\n	\n				\n				\n					\n		\n					\n		\n				\n						\n					\n			\n						\n				\n					\n	\n		\n\n	\n	Add to calendar	\n		\n	\n\n		\n			\n									\n	Google Calendar\n\n									\n	iCalendar\n\n									\n	Outlook 365\n\n									\n	Outlook Live\n\n							\n		\n\n		\n	\n\n				\n				\n					\n		\n					\n		\n				\n						\n					\n			\n						\n				\n					\n	\n		\n\n				Messiah
URL:https://grandriverchorus.com/event/feel-the-spirit/
LOCATION:New Life Pentecostal Church\, 85 Clench Ave.\, Brantford\, Ontario\, N3T 1C1\, Canada
CATEGORIES:Concert
ATTACH;FMTTYPE=image/png:https://grandriverchorus.com/wp-content/uploads/2026/03/1000009330.png
END:VEVENT
END:VCALENDAR